BEGIN:VCALENDAR
VERSION:2.0
PRODID:-//Tukios.com/
BEGIN:VEVENT
UID:bad1ed30-fa30-42f0-81a0-1ba9cb3ed456@obituaries.foresthillfh.com
DTSTAMP:20260422T003930Z
DTSTART:20260423T180000Z
DTEND:20260423T190000Z
SUMMARY:Graveside Service
DESCRIPTION:
URL:https://obituaries.foresthillfh.com/obituaries/james-belk
LOCATION:Friendship Cemetery 8 54th Street Southwest  Como MS 38619
GEO:34.5104169;-89.9402834
END:VEVENT
END:VCALENDAR