BEGIN:VCALENDAR
VERSION:2.0
PRODID:-//Tukios.com/
BEGIN:VEVENT
UID:404efedb-fbf7-4f59-8aaa-e338654c9e24@obituaries.foresthillfh.com
DTSTAMP:20260423T043326Z
DTSTART:20260427T190000Z
DTEND:20260427T200000Z
SUMMARY:Graveside Service
DESCRIPTION:
URL:https://obituaries.foresthillfh.com/obituaries/james-latham
LOCATION: 2440 Whitten Rd  Memphis TN 38133
GEO:35.1920624;-89.8335291
END:VEVENT
END:VCALENDAR