BEGIN:VCALENDAR
VERSION:2.0
PRODID:-//Tukios.com/
BEGIN:VEVENT
UID:b192b196-928a-40ce-9606-d1174a7387d5@obituaries.foresthillfh.com
DTSTAMP:20260422T082617Z
DTSTART:20260423T180000Z
DTEND:20260423T190000Z
SUMMARY:Visitation
DESCRIPTION:
URL:https://obituaries.foresthillfh.com/obituaries/margaret-mcclung
LOCATION: 2440 Whitten Rd  Memphis TN 38133
GEO:35.1920624;-89.8335291
END:VEVENT
END:VCALENDAR