BEGIN:VCALENDAR
VERSION:2.0
PRODID:-//Tukios.com/
BEGIN:VEVENT
UID:7555eb5f-a812-4e87-908e-46b87f216869@obituaries.foresthillfh.com
DTSTAMP:20260422T082203Z
DTSTART:20260423T190000Z
DTEND:20260423T200000Z
SUMMARY:Graveside Service
DESCRIPTION:
URL:https://obituaries.foresthillfh.com/obituaries/margaret-mcclung
LOCATION: 2440 Whitten Rd  Memphis TN 38133
GEO:35.1920624;-89.8335291
END:VEVENT
END:VCALENDAR