BEGIN:VCALENDAR
VERSION:2.0
PRODID:-//Tukios.com/
BEGIN:VEVENT
UID:1e1738d3-0eec-4b90-981d-6d4285bbb312@obituaries.foresthillfh.com
DTSTAMP:20260423T063654Z
DTSTART:20260427T180000Z
DTEND:20260427T190000Z
SUMMARY:Visitation
DESCRIPTION:
URL:https://obituaries.foresthillfh.com/obituaries/marilyn-russom
LOCATION: 2440 Whitten Rd  Memphis TN 38133
GEO:35.1920624;-89.8335291
END:VEVENT
END:VCALENDAR