BEGIN:VCALENDAR
VERSION:2.0
PRODID:-//Tukios.com/
BEGIN:VEVENT
UID:c441dc05-085d-4919-a662-51e1698b6b96@obituaries.foresthillfh.com
DTSTAMP:20260423T063842Z
DTSTART:20260427T190000Z
DTEND:20260427T200000Z
SUMMARY:Funeral Service
DESCRIPTION:
URL:https://obituaries.foresthillfh.com/obituaries/marilyn-russom
LOCATION: 2440 Whitten Rd  Memphis TN 38133
GEO:35.1920624;-89.8335291
END:VEVENT
END:VCALENDAR