BEGIN:VCALENDAR
VERSION:2.0
PRODID:-//Tukios.com/
BEGIN:VEVENT
UID:e290878d-2f31-47af-b85e-2be339cc7ce6@obituaries.foresthillfh.com
DTSTAMP:20260423T063214Z
DTSTART:20260427T200000Z
DTEND:20260427T210000Z
SUMMARY:Interment
DESCRIPTION:
URL:https://obituaries.foresthillfh.com/obituaries/marilyn-russom
LOCATION: 2440 Whitten Rd  Memphis TN 38133
GEO:35.1920624;-89.8335291
END:VEVENT
END:VCALENDAR