BEGIN:VCALENDAR
VERSION:2.0
PRODID:-//Tukios.com/
BEGIN:VEVENT
UID:f0d6859f-9a93-4aad-b6ea-597096b77d77@obituaries.foresthillfh.com
DTSTAMP:20260421T084027Z
DTSTART:20260424T150000Z
DTEND:20260424T160000Z
SUMMARY:Graveside Service
DESCRIPTION:
URL:https://obituaries.foresthillfh.com/obituaries/peggy-watkins
LOCATION: 2440 Whitten Rd  Memphis TN 38133
GEO:35.1920624;-89.8335291
END:VEVENT
END:VCALENDAR